BEGIN:VCALENDAR
VERSION:2.0
PRODID:-//wp-events-plugin.com//7.2.3.1//EN
TZID:Europe/Berlin
X-WR-TIMEZONE:Europe/Berlin
BEGIN:VEVENT
UID:11@schuetzen-dornhan.de
DTSTART;TZID=Europe/Berlin:20230513T143000
DTEND;TZID=Europe/Berlin:20230513T173000
DTSTAMP:20230411T131552Z
URL:https://www.schuetzen-dornhan.de/events/1-rwk-sommerrunde-nz-gebrauchs
 pistole-revolver/
SUMMARY:1. RWK Sommerrunde NZ Gebrauchspistole/-revolver
DESCRIPTION:&nbsp\;\n\nhttps://rwk.sk-neckar-zollern.de/php/terminedruck.ph
 p?rwk=5
CATEGORIES:Großkaliberpistole
END:VEVENT
BEGIN:VTIMEZONE
TZID:Europe/Berlin
X-LIC-LOCATION:Europe/Berlin
BEGIN:DAYLIGHT
DTSTART:20230326T030000
TZOFFSETFROM:+0100
TZOFFSETTO:+0200
TZNAME:CEST
END:DAYLIGHT
END:VTIMEZONE
END:VCALENDAR