BEGIN:VCALENDAR
VERSION:2.0
PRODID:-//wp-events-plugin.com//7.2.3.1//EN
TZID:Europe/Berlin
X-WR-TIMEZONE:Europe/Berlin
BEGIN:VEVENT
UID:9@schuetzen-dornhan.de
DTSTART;TZID=Europe/Berlin:20230422T143000
DTEND;TZID=Europe/Berlin:20230422T173000
DTSTAMP:20230411T131129Z
URL:https://www.schuetzen-dornhan.de/events/1-rwk-vorderladerpistole-regio
 nsliga/
SUMMARY:1. RWK Vorderladerpistole Regionsliga
DESCRIPTION:Dornhan 2&nbsp\;&nbsp\;&nbsp\; &nbsp\;&nbsp\;&nbsp\;&nbsp\;&nbs
 p\;&nbsp\;&nbsp\;&nbsp\;&nbsp\;&nbsp\;&nbsp\; -&nbsp\;&nbsp\;&nbsp\;&nbsp\
 ;&nbsp\;&nbsp\;&nbsp\;&nbsp\;&nbsp\;&nbsp\; Grüntal-Frutenhof\n\nGeisling
 en 3 &nbsp\;&nbsp\;&nbsp\;&nbsp\;&nbsp\;&nbsp\;&nbsp\;&nbsp\;&nbsp\;&nbsp\
 ;&nbsp\; -&nbsp\;&nbsp\;&nbsp\;&nbsp\;&nbsp\;&nbsp\;&nbsp\;&nbsp\;&nbsp\;&
 nbsp\; Dornhan 1\n\n&nbsp\;\n\nhttps://rwk.region-swhz.de/php/druck.php?rw
 k=1\n\n&nbsp\;\n\n&nbsp\;
CATEGORIES:Großkaliberpistole,Rundenwettkampf
LOCATION:Schützenhaus Dornhan\, Ziegelhüttensteige 4\, Dornhan\, BW\, 721
 75\, Deutschland
X-APPLE-STRUCTURED-LOCATION;VALUE=URI;X-ADDRESS=Ziegelhüttensteige 4\, Dor
 nhan\, BW\, 72175\, Deutschland;X-APPLE-RADIUS=100;X-TITLE=Schützenhaus D
 ornhan:geo:0,0
END:VEVENT
BEGIN:VTIMEZONE
TZID:Europe/Berlin
X-LIC-LOCATION:Europe/Berlin
BEGIN:DAYLIGHT
DTSTART:20230326T030000
TZOFFSETFROM:+0100
TZOFFSETTO:+0200
TZNAME:CEST
END:DAYLIGHT
END:VTIMEZONE
END:VCALENDAR