BEGIN:VCALENDAR
VERSION:2.0
PRODID:-//wp-events-plugin.com//7.2.3.1//EN
TZID:Europe/Berlin
X-WR-TIMEZONE:Europe/Berlin
BEGIN:VEVENT
UID:12@schuetzen-dornhan.de
DTSTART;TZID=Europe/Berlin:20230520T150000
DTEND;TZID=Europe/Berlin:20230520T180000
DTSTAMP:20230411T162831Z
URL:https://www.schuetzen-dornhan.de/events/2-rwk-kk-gewehr-liegend-region
 sliga/
SUMMARY:2. RWK KK-Gewehr liegend Regionsliga
DESCRIPTION:Bösingen 2&nbsp\;&nbsp\; -&nbsp\;&nbsp\;&nbsp\;&nbsp\;&nbsp\;&
 nbsp\;&nbsp\;&nbsp\;&nbsp\;&nbsp\; Dornhan\n\n&nbsp\;\n\nhttps://rwk.regio
 n-swhz.de/php/druck.php?rwk=7
CATEGORIES:Rundenwettkampf
END:VEVENT
BEGIN:VTIMEZONE
TZID:Europe/Berlin
X-LIC-LOCATION:Europe/Berlin
BEGIN:DAYLIGHT
DTSTART:20230326T030000
TZOFFSETFROM:+0100
TZOFFSETTO:+0200
TZNAME:CEST
END:DAYLIGHT
END:VTIMEZONE
END:VCALENDAR