BEGIN:VCALENDAR
VERSION:2.0
PRODID:-//wp-events-plugin.com//7.2.3.1//EN
TZID:Europe/Berlin
X-WR-TIMEZONE:Europe/Berlin
BEGIN:VEVENT
UID:30@schuetzen-dornhan.de
DTSTART;TZID=Europe/Berlin:20231020T190000
DTEND;TZID=Europe/Berlin:20231020T213000
DTSTAMP:20230926T212759Z
URL:https://www.schuetzen-dornhan.de/events/2-rwk-luftgewehr-kreisliga/
SUMMARY:2. RWK Luftgewehr Kreisliga
DESCRIPTION:Starzach 3&nbsp\;&nbsp\;&nbsp\; - &nbsp\;&nbsp\;&nbsp\;&nbsp\;&
 nbsp\;&nbsp\;&nbsp\;&nbsp\;&nbsp\; Dornhan
CATEGORIES:Luftgewehr,Rundenwettkampf
END:VEVENT
BEGIN:VTIMEZONE
TZID:Europe/Berlin
X-LIC-LOCATION:Europe/Berlin
BEGIN:DAYLIGHT
DTSTART:20230326T030000
TZOFFSETFROM:+0100
TZOFFSETTO:+0200
TZNAME:CEST
END:DAYLIGHT
END:VTIMEZONE
END:VCALENDAR