BEGIN:VCALENDAR
VERSION:2.0
PRODID:-//wp-events-plugin.com//7.2.3.1//EN
TZID:Europe/Berlin
X-WR-TIMEZONE:Europe/Berlin
BEGIN:VEVENT
UID:45@schuetzen-dornhan.de
DTSTART;TZID=Europe/Berlin:20231008T093000
DTEND;TZID=Europe/Berlin:20231008T120000
DTSTAMP:20230926T214725Z
URL:https://www.schuetzen-dornhan.de/events/2-rwk-sportpistole-regionsober
 liga/
SUMMARY:2. RWK Sportpistole Regionsoberliga
DESCRIPTION:Dornhan 1&nbsp\;&nbsp\;&nbsp\; -&nbsp\;&nbsp\;&nbsp\;&nbsp\;&nb
 sp\;&nbsp\;&nbsp\;&nbsp\;&nbsp\;&nbsp\; Durrweiler
CATEGORIES:Rundenwettkampf,Sportpistole KK
LOCATION:Schützenhaus Dornhan\, Ziegelhüttensteige 4\, Dornhan\, BW\, 721
 75\, Deutschland
X-APPLE-STRUCTURED-LOCATION;VALUE=URI;X-ADDRESS=Ziegelhüttensteige 4\, Dor
 nhan\, BW\, 72175\, Deutschland;X-APPLE-RADIUS=100;X-TITLE=Schützenhaus D
 ornhan:geo:0,0
END:VEVENT
BEGIN:VTIMEZONE
TZID:Europe/Berlin
X-LIC-LOCATION:Europe/Berlin
BEGIN:DAYLIGHT
DTSTART:20230326T030000
TZOFFSETFROM:+0100
TZOFFSETTO:+0200
TZNAME:CEST
END:DAYLIGHT
END:VTIMEZONE
END:VCALENDAR