BEGIN:VCALENDAR
VERSION:2.0
PRODID:-//wp-events-plugin.com//7.2.3.1//EN
TZID:Europe/Berlin
X-WR-TIMEZONE:Europe/Berlin
BEGIN:VEVENT
UID:65@schuetzen-dornhan.de
DTSTART;TZID=Europe/Berlin:20240608T150000
DTEND;TZID=Europe/Berlin:20240608T173000
DTSTAMP:20240521T094913Z
URL:https://www.schuetzen-dornhan.de/events/3-rwk-kk-gewehr-liegend-region
 sliga/
SUMMARY:3. RWK KK-Gewehr liegend Regionsliga
DESCRIPTION:Bösingen 2&nbsp\;&nbsp\; -&nbsp\;&nbsp\;&nbsp\;&nbsp\;&nbsp\;&
 nbsp\;&nbsp\;&nbsp\;&nbsp\;&nbsp\; Dornhan
END:VEVENT
BEGIN:VTIMEZONE
TZID:Europe/Berlin
X-LIC-LOCATION:Europe/Berlin
BEGIN:DAYLIGHT
DTSTART:20240331T030000
TZOFFSETFROM:+0100
TZOFFSETTO:+0200
TZNAME:CEST
END:DAYLIGHT
END:VTIMEZONE
END:VCALENDAR