BEGIN:VCALENDAR
VERSION:2.0
PRODID:-//wp-events-plugin.com//7.2.3.1//EN
TZID:Europe/Berlin
X-WR-TIMEZONE:Europe/Berlin
BEGIN:VEVENT
UID:77@schuetzen-dornhan.de
DTSTART;TZID=Europe/Berlin:20250112T093000
DTEND;TZID=Europe/Berlin:20250112T120000
DTSTAMP:20250101T131450Z
URL:https://www.schuetzen-dornhan.de/events/5-rwk-sportpistole-kreisliga-2
 /
SUMMARY:5. RWK Sportpistole Kreisliga
DESCRIPTION:\n\n\n5. Wettkampf am 12.01.2025\n\n\nSSV Starzach 1\n- SV Talh
 eim 1\n&nbsp\;\nSV Nordstetten 2\n- SV Hochdorf 1\n\n\nSV Hochdorf 2\n- SV
  Empfingen 1\n&nbsp\;\nSV Dettingen 2\n- SV Nordstetten 4\n\n\nSV Dornhan 
 2\n- SV Nordstetten 3\n&nbsp\;\nSV Hochdorf 3\n- SV Vöhringen 2\n\n\n
CATEGORIES:Sportpistole KK
LOCATION:Schützenhaus Dornhan\, Ziegelhüttensteige 4\, Dornhan\, BW\, 721
 75\, Deutschland
X-APPLE-STRUCTURED-LOCATION;VALUE=URI;X-ADDRESS=Ziegelhüttensteige 4\, Dor
 nhan\, BW\, 72175\, Deutschland;X-APPLE-RADIUS=100;X-TITLE=Schützenhaus D
 ornhan:geo:0,0
END:VEVENT
BEGIN:VTIMEZONE
TZID:Europe/Berlin
X-LIC-LOCATION:Europe/Berlin
BEGIN:STANDARD
DTSTART:20241027T020000
TZOFFSETFROM:+0200
TZOFFSETTO:+0100
TZNAME:CET
END:STANDARD
END:VTIMEZONE
END:VCALENDAR