BEGIN:VCALENDAR
VERSION:2.0
PRODID:-//wp-events-plugin.com//7.2.3.1//EN
TZID:Europe/Berlin
X-WR-TIMEZONE:Europe/Berlin
BEGIN:VEVENT
UID:78@schuetzen-dornhan.de
DTSTART;TZID=Europe/Berlin:20250209T093000
DTEND;TZID=Europe/Berlin:20250209T120000
DTSTAMP:20250101T132502Z
URL:https://www.schuetzen-dornhan.de/events/6-rwk-sportpistole-kreisliga-2
 /
SUMMARY:6. RWK Sportpistole Kreisliga
DESCRIPTION:\n\n\n6. Wettkampf am 09.02.2025\n\n\nSV Nordstetten 2\n- SSV S
 tarzach 1\n&nbsp\;\nSV Hochdorf 1\n- SV Talheim 1\n\n\nSV Dettingen 2\n- S
 V Hochdorf 2\n&nbsp\;\nSV Nordstetten 4\n- SV Empfingen 1\n\n\nSV Hochdorf
  3\n- SV Dornhan 2\n&nbsp\;\nSV Vöhringen 2\n- SV Nordstetten 3\n\n\n\n&n
 bsp\;
CATEGORIES:Sportpistole KK
LOCATION:Schützenhaus Hochdorf\, Dachsburgweg 2\, Nagold-Hochdorf\, BW\, 7
 2202 \, Deutschland
X-APPLE-STRUCTURED-LOCATION;VALUE=URI;X-ADDRESS=Dachsburgweg 2\, Nagold-Hoc
 hdorf\, BW\, 72202 \, Deutschland;X-APPLE-RADIUS=100;X-TITLE=Schützenhaus
  Hochdorf:geo:0,0
END:VEVENT
BEGIN:VTIMEZONE
TZID:Europe/Berlin
X-LIC-LOCATION:Europe/Berlin
BEGIN:STANDARD
DTSTART:20241027T020000
TZOFFSETFROM:+0200
TZOFFSETTO:+0100
TZNAME:CET
END:STANDARD
END:VTIMEZONE
END:VCALENDAR