BEGIN:VCALENDAR
VERSION:2.0
PRODID:-//wp-events-plugin.com//7.2.3.1//EN
TZID:Europe/Berlin
X-WR-TIMEZONE:Europe/Berlin
BEGIN:VEVENT
UID:73@schuetzen-dornhan.de
DTSTART;TZID=Europe/Berlin:20250104T143000
DTEND;TZID=Europe/Berlin:20250104T180000
DTSTAMP:20250101T125802Z
URL:https://www.schuetzen-dornhan.de/events/dreikoenigsschiessen/
SUMMARY:Dreikönigsschießen
DESCRIPTION:Schießen mit Großkalibrigen Kurzwaffen auf Drehscheiben\, pro
  Serie sind 3 x 5 Schuss in unterschiedlichen Zeitintervallen zu schießen
 .\n\nDie Wertung erfolgt getrennt in aktive Schützen und Laien.\n\nWeiter
 e Details hier:\n\nDreikönigsschießen_SVD_2025
CATEGORIES:Dreikönigsschießen
LOCATION:Schützenhaus Dornhan\, Ziegelhüttensteige 4\, Dornhan\, BW\, 721
 75\, Deutschland
X-APPLE-STRUCTURED-LOCATION;VALUE=URI;X-ADDRESS=Ziegelhüttensteige 4\, Dor
 nhan\, BW\, 72175\, Deutschland;X-APPLE-RADIUS=100;X-TITLE=Schützenhaus D
 ornhan:geo:0,0
END:VEVENT
BEGIN:VTIMEZONE
TZID:Europe/Berlin
X-LIC-LOCATION:Europe/Berlin
BEGIN:STANDARD
DTSTART:20241027T020000
TZOFFSETFROM:+0200
TZOFFSETTO:+0100
TZNAME:CET
END:STANDARD
END:VTIMEZONE
END:VCALENDAR