BEGIN:VCALENDAR
VERSION:2.0
PRODID:-//wp-events-plugin.com//7.2.3.1//EN
TZID:Europe/Berlin
X-WR-TIMEZONE:Europe/Berlin
BEGIN:VEVENT
UID:28@schuetzen-dornhan.de
DTSTART;TZID=Europe/Berlin:20231021T180000
DTEND;TZID=Europe/Berlin:20231021T190000
DTSTAMP:20230926T215803Z
URL:https://www.schuetzen-dornhan.de/events/siegerehrung-vuf-2023/
SUMMARY:Siegerehrung - VuF 2023
DESCRIPTION:Siegerehrung unseres Wertungsschießen im Zuge des Vereins- und
  Firmenpokalschießen 2023\, unserem Laienturnier mit Kleinkalibergewehren
 \n\nweitere Infos dazu gibt es hier:&nbsp\; http://www.schuetzen-dornhan.d
 e/2023/09/19/vereins-und-firmenpokalschiessen-2023/
CATEGORIES:Vereins- und Firmenpokalschießen
LOCATION:Schützenhaus Dornhan\, Ziegelhüttensteige 4\, Dornhan\, BW\, 721
 75\, Deutschland
X-APPLE-STRUCTURED-LOCATION;VALUE=URI;X-ADDRESS=Ziegelhüttensteige 4\, Dor
 nhan\, BW\, 72175\, Deutschland;X-APPLE-RADIUS=100;X-TITLE=Schützenhaus D
 ornhan:geo:0,0
END:VEVENT
BEGIN:VTIMEZONE
TZID:Europe/Berlin
X-LIC-LOCATION:Europe/Berlin
BEGIN:DAYLIGHT
DTSTART:20230326T030000
TZOFFSETFROM:+0100
TZOFFSETTO:+0200
TZNAME:CEST
END:DAYLIGHT
END:VTIMEZONE
END:VCALENDAR